BEGIN:VCALENDAR
VERSION:2.0
PRODID:-//Undefeated Ministries - ECPv6.15.20//NONSGML v1.0//EN
CALSCALE:GREGORIAN
METHOD:PUBLISH
X-WR-CALNAME:Undefeated Ministries
X-ORIGINAL-URL:https://www.undefeatedministries.org
X-WR-CALDESC:Events for Undefeated Ministries
REFRESH-INTERVAL;VALUE=DURATION:PT1H
X-Robots-Tag:noindex
X-PUBLISHED-TTL:PT1H
BEGIN:VTIMEZONE
TZID:America/Denver
BEGIN:DAYLIGHT
TZOFFSETFROM:-0700
TZOFFSETTO:-0600
TZNAME:MDT
DTSTART:20230312T090000
END:DAYLIGHT
BEGIN:STANDARD
TZOFFSETFROM:-0600
TZOFFSETTO:-0700
TZNAME:MST
DTSTART:20231105T080000
END:STANDARD
BEGIN:DAYLIGHT
TZOFFSETFROM:-0700
TZOFFSETTO:-0600
TZNAME:MDT
DTSTART:20240310T090000
END:DAYLIGHT
BEGIN:STANDARD
TZOFFSETFROM:-0600
TZOFFSETTO:-0700
TZNAME:MST
DTSTART:20241103T080000
END:STANDARD
BEGIN:DAYLIGHT
TZOFFSETFROM:-0700
TZOFFSETTO:-0600
TZNAME:MDT
DTSTART:20250309T090000
END:DAYLIGHT
BEGIN:STANDARD
TZOFFSETFROM:-0600
TZOFFSETTO:-0700
TZNAME:MST
DTSTART:20251102T080000
END:STANDARD
END:VTIMEZONE
BEGIN:VEVENT
DTSTART;TZID=America/Denver:20240608T133000
DTEND;TZID=America/Denver:20240608T210000
DTSTAMP:20260420T103059
CREATED:20240428T212420Z
LAST-MODIFIED:20240605T182147Z
UID:75-1717853400-1717880400@www.undefeatedministries.org
SUMMARY:Time of Hope & Healing - Gallup\, NM
DESCRIPTION:Join host Dr. Lisa Brown\, worship leader Pastor Jon Jones\, and guest speaker Pastor Eagle Sam for “Time of Hope & Healing” on Saturday\, June 8th in New Mexico\, as we encounter Jesus. We are expecting hearts to be restored and bodies to be healed and made whole in His presence. \nThis will be a one-day event with two POWERFUL SESSIONS going deeper into the Word of God\, intimate worship\, healing & prophetic ministry\, and soaking in the presence of God! We are striving to encounter the one who changes everything. Don’t miss this encounter! Invite everyone you know and let’s go deeper! \nWe invite you to get into the room no matter where you live. It will be a powerful time in His presence! \nRegistration\nRegistration is FREE! All ages are welcome (no childcare provided). Use the form below to register. \nService Times\nAfternoon Service – 1:30pm \nEvening Service – 6:30 pm \n\nDoors open 30 minutes before service times. Arrive early to get your seat!
URL:https://www.undefeatedministries.org/event/time-of-hope-healing-gallup-nm/
LOCATION:Joshua Generation for Jesus Church\, 1375 Elva Dr\, Gallup\, NM\, 87301\, United States
CATEGORIES:Hope & Healing Experience
ORGANIZER;CN="Undefeated Ministries":MAILTO:info@undefeatedministries.org
END:VEVENT
END:VCALENDAR